BEGIN:VCALENDAR
VERSION:2.0
PRODID:-//Canadian Hereford Association | Better Your Beef - ECPv6.15.12.2//NONSGML v1.0//EN
CALSCALE:GREGORIAN
METHOD:PUBLISH
X-WR-CALNAME:Canadian Hereford Association | Better Your Beef
X-ORIGINAL-URL:https://hereford.ca
X-WR-CALDESC:Events for Canadian Hereford Association | Better Your Beef
REFRESH-INTERVAL;VALUE=DURATION:PT1H
X-Robots-Tag:noindex
X-PUBLISHED-TTL:PT1H
BEGIN:VTIMEZONE
TZID:America/Edmonton
BEGIN:DAYLIGHT
TZOFFSETFROM:-0700
TZOFFSETTO:-0600
TZNAME:MDT
DTSTART:20240310T090000
END:DAYLIGHT
BEGIN:STANDARD
TZOFFSETFROM:-0600
TZOFFSETTO:-0700
TZNAME:MST
DTSTART:20241103T080000
END:STANDARD
BEGIN:DAYLIGHT
TZOFFSETFROM:-0700
TZOFFSETTO:-0600
TZNAME:MDT
DTSTART:20250309T090000
END:DAYLIGHT
BEGIN:STANDARD
TZOFFSETFROM:-0600
TZOFFSETTO:-0700
TZNAME:MST
DTSTART:20251102T080000
END:STANDARD
BEGIN:DAYLIGHT
TZOFFSETFROM:-0700
TZOFFSETTO:-0600
TZNAME:MDT
DTSTART:20260308T090000
END:DAYLIGHT
BEGIN:STANDARD
TZOFFSETFROM:-0600
TZOFFSETTO:-0700
TZNAME:MST
DTSTART:20261101T080000
END:STANDARD
END:VTIMEZONE
BEGIN:VEVENT
DTSTART;TZID=America/Edmonton:20251206T130000
DTEND;TZID=America/Edmonton:20251206T170000
DTSTAMP:20260421T100640
CREATED:20250922T201749Z
LAST-MODIFIED:20250922T201749Z
UID:5074-1765026000-1765040400@hereford.ca
SUMMARY:M. C. Quantock Livestock “Super Sisters” Bred Heifer  & Special Opportunity Cow Sale
DESCRIPTION:Heifers bred RA/BA     Cows bred Fleck-Semi \nGroups of half sisters.                   “One iron” unique genetics \n  \nSee photos/videos on our website    www.canadasbulls.com    in Nov.
URL:https://hereford.ca/event/m-c-quantock-livestock-super-sisters-bred-heifer-special-opportunity-cow-sale/
LOCATION:Northern Livestock Sales\, Lloydminster\, Saskatchewan\, SK S9V 0A1\, Canada
CATEGORIES:Sale
END:VEVENT
END:VCALENDAR