BEGIN:VCALENDAR
VERSION:2.0
PRODID:-//Canadian Hereford Association | Better Your Beef - ECPv6.15.12.2//NONSGML v1.0//EN
CALSCALE:GREGORIAN
METHOD:PUBLISH
X-WR-CALNAME:Canadian Hereford Association | Better Your Beef
X-ORIGINAL-URL:https://hereford.ca
X-WR-CALDESC:Events for Canadian Hereford Association | Better Your Beef
REFRESH-INTERVAL;VALUE=DURATION:PT1H
X-Robots-Tag:noindex
X-PUBLISHED-TTL:PT1H
BEGIN:VTIMEZONE
TZID:UTC
BEGIN:STANDARD
TZOFFSETFROM:+0000
TZOFFSETTO:+0000
TZNAME:UTC
DTSTART:20250101T000000
END:STANDARD
END:VTIMEZONE
BEGIN:VEVENT
DTSTART;TZID=UTC:20260704T000000
DTEND;TZID=UTC:20260704T235959
DTSTAMP:20260423T160427
CREATED:20260422T162511Z
LAST-MODIFIED:20260422T162511Z
UID:5489-1783123200-1783209599@hereford.ca
SUMMARY:Ontario Hereford Association Annual General Meeting
DESCRIPTION:
URL:https://hereford.ca/event/ontario-hereford-association-annual-general-meeting-2/
LOCATION:Metcalf\, Ontario
CATEGORIES:Meeting
END:VEVENT
END:VCALENDAR